BEGIN:VCALENDAR
VERSION:2.0
PRODID:-//ExpressionEngine Easy iCalendar plugin//NONSGML v2.0.1//EN
X-WR-TIMEZONE:America/New_York
X-WR-CALNAME:Upcoming Auctions
BEGIN:VEVENT
UID:142553
DTSTAMP:20250617T132600
DTSTART:20250617T132600
DTEND:20250813T110000
SUMMARY:A Large Inventory of Consumer Goods & Amazon Returns
LOCATION:81 HAMBURG TURNPIKE\, RIVERDALE\, NJ 07457\, US
DESCRIPTION:Inventory Liquidation Auction A Large New Inventory of Consu
 mer Products in A Variety of Categories Auction Format:  Ti
 med Online Auction
URL:https://www.ajwillnerauctions.com/auctions/detail/bw142553
SEQUENCE:1
END:VEVENT
END:VCALENDAR