BEGIN:VCALENDAR
VERSION:2.0
PRODID:-//ExpressionEngine Easy iCalendar plugin//NONSGML v2.0.0//EN
X-WR-TIMEZONE:America/New_York
X-WR-CALNAME:Upcoming Auctions
BEGIN:VEVENT
UID:145258
DTSTAMP:20250727T191000
DTSTART:20250727T191000
DTEND:20250812T110000
SUMMARY:Designer Shoe Inventory
LOCATION:81 Hamburg Turnpike\, Riverdale\, NJ 07457\, US
DESCRIPTION:Inventory Liquidation Auction A Large Inventory of UGG Footw
 ear Auction Format:  Timed Online Auction
URL:https://www.ajwillnerauctions.com/auctions/detail/bw145258
SEQUENCE:1
END:VEVENT
END:VCALENDAR