BEGIN:VCALENDAR
VERSION:2.0
PRODID:-//ExpressionEngine Easy iCalendar plugin//NONSGML v2.0.1//EN
X-WR-TIMEZONE:America/New_York
X-WR-CALNAME:Upcoming Auctions
BEGIN:VEVENT
UID:147918
DTSTAMP:20250908T140500
DTSTART:20250908T140500
DTEND:20251003T110000
SUMMARY:Cornwell Automotive Diagnostic & Professional Tools
LOCATION:81 Hamburg Turnpike\, Riverdale\, NJ 07457\, US
DESCRIPTION:Inventory Liquidation Auction A NEW Inventory of Cornwell A
 utomotive Diagnostic & Professional Tools This auction offer
 s a wide selection of professional-grade automotive diagnost
 ic equipment\, shop tools\, and hand tools from leading brands
  including: ThinkTool TOPDON Cornwell Milwaukee Ingersoll Ra
 nd OTC Lisle & GearWrench Highlights include: heavy-duty ve
 hicle diagnostic scanners battery testers Bluetooth diagnost
 ic dongles torque wrenches air tools socket sets impact driv
 ers specialty pliers & Ass't Cornwell Tool Sets. Auctioneer
 's Note:  Whether you’re a repair shop\, dealership\, or se
 rious DIY technician\, this sale presents a cost-effective op
 portunity to acquire quality diagnostic and mechanical tools
 . Auction Format:  Timed Online Auction
URL:https://www.ajwillnerauctions.com/auctions/detail/bw147918
SEQUENCE:1
END:VEVENT
END:VCALENDAR