BEGIN:VCALENDAR
VERSION:2.0
PRODID:-//ExpressionEngine Easy iCalendar plugin//NONSGML v2.0.1//EN
X-WR-TIMEZONE:America/New_York
X-WR-CALNAME:Upcoming Auctions
BEGIN:VEVENT
UID:151886
DTSTAMP:20251109T195100
DTSTART:20251109T195100
DTEND:20251209T110000
SUMMARY:2023 Ford F250 Pick Up & (2) 2021 RAM ProMaster 2500 Vans
LOCATION:81 Hamburg Tpk\, Riverdale\, NJ 07457\, US
DESCRIPTION:Business Liquidation Auction re:  Your Way Contractors Clea
 n\, Low Mileage Commercial Trucks 2023 Ford F250 XLT 4WD Pick
  Up Truck w/ Highway Products Diamond Plate PickUp Pack (2) 
 2021 RAM Promaster 2500 Vans 2010 GMC Savana 12' Box Truck A
 uction Format:  Timed Online Auction Auctioneer's Note:  W
 e can accommodate vehicle inspections by appointment in addi
 tion to the scheduled inspection date.
URL:https://www.ajwillnerauctions.com/auctions/detail/bw151886
SEQUENCE:1
END:VEVENT
END:VCALENDAR