BEGIN:VCALENDAR
VERSION:2.0
PRODID:-//ExpressionEngine Easy iCalendar plugin//NONSGML v2.0.1//EN
X-WR-TIMEZONE:America/New_York
X-WR-CALNAME:Upcoming Auctions
BEGIN:VEVENT
UID:155611
DTSTAMP:20260121T120000
DTSTART:20260121T120000
DTEND:20260505T110000
SUMMARY:Surveillance\, Audio Equipment & Consumer Electronics
LOCATION:81 Hamburg Turnpike\, Riverdale\, NJ 07457\, US
DESCRIPTION:Business Liquidation Auction  re:  Covert Resource Spy Sho
 p Notable manufacturers and product types include: Professio
 nal audio equipment including multi-channel mixers and wirel
 ess microphone systems Digital recording devices in individu
 al and grouped lots Encrypted USB storage devices (IronKey\, 
 DataShur) Wi-Fi and solar-powered security cameras (includin
 g Reolink units) Consumer electronics and accessories offere
 d in volume lots Auctioneer's Note:  This auction also cont
 ains a selection of security and personal-use equipment.  
 Bidders are responsible for understanding all applicable law
 s regarding purchase\, possession\, and use. Auction Format: 
  Timed Online Auction
URL:https://www.ajwillnerauctions.com/auctions/detail/bw155611
SEQUENCE:1
END:VEVENT
END:VCALENDAR