BEGIN:VCALENDAR
VERSION:2.0
PRODID:-//ExpressionEngine Easy iCalendar plugin//NONSGML v2.0.1//EN
X-WR-TIMEZONE:America/New_York
X-WR-CALNAME:Upcoming Auctions
BEGIN:VEVENT
UID:159667
DTSTAMP:20260401T120000
DTSTART:20260401T120000
DTEND:20260512T110000
SUMMARY:High-End Custom Wheels & Tire Packages – Late Model Perfor
 mance Auto Parts Inventory
LOCATION:81 Hamburg Turnpike\, Riverdale\, NJ 07457\, US
DESCRIPTION:High-End Custom Wheels & Tire Packages – Late Model Automo
 tive Inventory No Minimums • No Reserves • Timed Online 
 Auction AJ Willner Auctions is proud to present a large-scal
 e liquidation of premium aftermarket wheels and mounted tire
  packages\, featuring a diverse selection of high-end brands\,
  oversized fitments\, and performance-ready assemblies. This 
 auction offers an exceptional opportunity for: Auto dealers 
 Wheel & tire retailers Custom shops Export buyers End users 
 seeking immediate upgrades Inventory Highlights Include: Com
 plete wheel & tire packages (mounted and ready for installat
 ion) Oversized luxury fitments including 24”\, 26”\, and o
 ff-road 35” configurations Premium brands and styles such 
 as: Lexani Niche Vossen Grid Off-Road Performance tire pairi
 ngs including: Continental DWS06 Plus Lionhart LH-Five Ironm
 an iMove Series Mickey Thompson Off-Road Tires Staggered and
  wide-profile setups ideal for: Luxury SUVs Lifted trucks Pe
 rformance sedans Exotic and custom builds Key Value Drivers:
  Retail-ready inventory – many lots configured as complete
  sets Broad sizing range to accommodate multiple vehicle cla
 sses Strong resale margins for dealers and resellers Immedia
 te usability – no assembly required on most packages Bulk 
 buying opportunity across consistent product categories Auct
 ion Format:  Timed Online Auction
URL:https://www.ajwillnerauctions.com/auctions/detail/bw159667
SEQUENCE:1
END:VEVENT
END:VCALENDAR