BEGIN:VCALENDAR
VERSION:2.0
PRODID:-//ExpressionEngine Easy iCalendar plugin//NONSGML v2.0.0//EN
X-WR-TIMEZONE:America/New_York
X-WR-CALNAME:Upcoming Auctions
BEGIN:VEVENT
UID:43165
DTSTAMP:20191010T110000
DTSTART:20191010T110000
DTEND:20191010T120000
SUMMARY:Construction Equipment & Trucks
LOCATION:131 Coolidge Street\, South Plainfield\, NJ 07080\, US
DESCRIPTION:Bankruptcy Auction Former Assets of J. Episcopo & Sons 2015 
 Kenworth model T370 single axle dump truck 2002 Ford F750 Du
 mp Truck Caterpillar 420DIT 4x4 Backhoe Loader Komatsu PC50M
 R-2 Mini Excavator 1998 Mack RD688S Roll Off Truck (6) Bri-M
 ar Tandem Axle Dump Trailers (12) Roll Off Containers\, 30\, 2
 0 & 12 Cu Yd 1996 Eager Beaver 10HA-PT Equipment Trailer 200
 8 CAM Superline Tandem Axle Equipment Trailer (3) Chevy Expr
 ess 3500 Cut-Away Service Body Trucks 2015 Chevy Silverado 3
 500HD Crew Cab Pick Up 2015 Ford Transit Connect Van 2013 Ni
 xxan Xterra 2013 Chevy Silverado 1500LTZ & Much More.
URL:https://www.ajwillnerauctions.com/auctions/detail/constructi
 on-equipment-trucks-bw43165
SEQUENCE:1
END:VEVENT
END:VCALENDAR